BEGIN:VCALENDAR
VERSION:2.0
PRODID:-//MCyM Las Flores - ECPv6.15.20//NONSGML v1.0//EN
CALSCALE:GREGORIAN
METHOD:PUBLISH
X-ORIGINAL-URL:https://lasfloresmcym.com.ar
X-WR-CALDESC:Eventos para MCyM Las Flores
REFRESH-INTERVAL;VALUE=DURATION:PT1H
X-Robots-Tag:noindex
X-PUBLISHED-TTL:PT1H
BEGIN:VTIMEZONE
TZID:America/Argentina/Buenos_Aires
BEGIN:STANDARD
TZOFFSETFROM:-0300
TZOFFSETTO:-0300
TZNAME:-03
DTSTART:20240101T000000
END:STANDARD
END:VTIMEZONE
BEGIN:VEVENT
DTSTART;VALUE=DATE:20251012
DTEND;VALUE=DATE:20251013
DTSTAMP:20260425T221108
CREATED:20251017T234827Z
LAST-MODIFIED:20251017T234843Z
UID:2716-1760227200-1760313599@lasfloresmcym.com.ar
SUMMARY:70° ANIVERSARIO MCyM TEMPERLEY
DESCRIPTION:El domingo 12 octubre\, celebramos el aniversario especial 70 años del MCyM en Temperley\, fundado por los pastores Margarita y Celsio Contreras con un muy comovedor homenaje agradecido a Dios por estos extraordinarios padres que fundaron esta obra en la gracia del Señor Jesucristo\, quién dice: «Yo edificare mi iglesia y las puertas del ades no prevalecerán contra ella» (San Mateos 16:18) \nDurante la jornada\, se realizaron diversas actividades emotivas\, en el Círculo Italiano Gran Sud de Temperley\, se enfatizó la importancia de cuidar y mantener los principios y la línea de fe para lograr continuar en los mismos pasos del comienzo! \nMCyM Temperley (1955-2025)
URL:https://lasfloresmcym.com.ar/event/70-aniversario-mcym-temperley/
ATTACH;FMTTYPE=image/jpeg:https://lasfloresmcym.com.ar/wp-content/uploads/2025/10/IMG-20251014-WA0047.jpg
END:VEVENT
END:VCALENDAR