BEGIN:VCALENDAR
VERSION:2.0
PRODID:-//MCyM Las Flores - ECPv6.15.20//NONSGML v1.0//EN
CALSCALE:GREGORIAN
METHOD:PUBLISH
X-WR-CALNAME:MCyM Las Flores
X-ORIGINAL-URL:https://lasfloresmcym.com.ar
X-WR-CALDESC:Eventos para MCyM Las Flores
REFRESH-INTERVAL;VALUE=DURATION:PT1H
X-Robots-Tag:noindex
X-PUBLISHED-TTL:PT1H
BEGIN:VTIMEZONE
TZID:America/Argentina/Buenos_Aires
BEGIN:STANDARD
TZOFFSETFROM:-0300
TZOFFSETTO:-0300
TZNAME:-03
DTSTART:20240101T000000
END:STANDARD
END:VTIMEZONE
BEGIN:VEVENT
DTSTART;VALUE=DATE:20251016
DTEND;VALUE=DATE:20251017
DTSTAMP:20260425T220509
CREATED:20251020T141147Z
LAST-MODIFIED:20251020T143551Z
UID:2738-1760572800-1760659199@lasfloresmcym.com.ar
SUMMARY:REUNIÓN DE SANTA CENA EN PEHUAJÓ!
DESCRIPTION:Con la visita de nuestros pastores\, además\, la visita de los pastores formados en nuestra iglesia\, gracias a la práctica del discipulado\, quienes hoy están pastoreando en las ciudades aledañas.\nMiguel y Débora desde Henderson\, Eliseo y Belén desde Carlos Casares\, Cristian y Celeste desde Urdampilleta\, y los obreros Ignacio y Daniela desde Carlos Tejedor.\nTuvimos una hermosa reunión especial\, llena del Espíritu Santo!
URL:https://lasfloresmcym.com.ar/event/reunion-de-santa-cena-en-pehuajo/
LOCATION:PEHUAJO
ATTACH;FMTTYPE=image/jpeg:https://lasfloresmcym.com.ar/wp-content/uploads/2025/10/WhatsApp-Image-2025-10-20-at-10.35.01-1.jpeg
END:VEVENT
END:VCALENDAR