BEGIN:VCALENDAR
VERSION:2.0
PRODID:-//MCyM Las Flores - ECPv6.15.20//NONSGML v1.0//EN
CALSCALE:GREGORIAN
METHOD:PUBLISH
X-ORIGINAL-URL:https://lasfloresmcym.com.ar
X-WR-CALDESC:Eventos para MCyM Las Flores
REFRESH-INTERVAL;VALUE=DURATION:PT1H
X-Robots-Tag:noindex
X-PUBLISHED-TTL:PT1H
BEGIN:VTIMEZONE
TZID:America/Argentina/Buenos_Aires
BEGIN:STANDARD
TZOFFSETFROM:-0300
TZOFFSETTO:-0300
TZNAME:-03
DTSTART:20240101T000000
END:STANDARD
END:VTIMEZONE
BEGIN:VEVENT
DTSTART;VALUE=DATE:20251024
DTEND;VALUE=DATE:20251025
DTSTAMP:20260425T220821
CREATED:20251025T171817Z
LAST-MODIFIED:20251025T172112Z
UID:2842-1761264000-1761350399@lasfloresmcym.com.ar
SUMMARY:Reunión de pastores en La Pampa
DESCRIPTION:El pasado viernes 24 de octubre se realizó una reunión de pastores y obreros de La Pampa en la iglesia hija MCyM General Villegas\, en donde nuestros pastores ministraron la Palabra de Dios
URL:https://lasfloresmcym.com.ar/event/reunion-de-pastores-en-la-pampa/
ATTACH;FMTTYPE=image/jpeg:https://lasfloresmcym.com.ar/wp-content/uploads/2025/10/572021816_18296878609252084_8385463476987623107_n-1-e1761412864468.jpeg
END:VEVENT
END:VCALENDAR