BEGIN:VCALENDAR
VERSION:2.0
PRODID:-//MCyM Las Flores - ECPv6.15.20//NONSGML v1.0//EN
CALSCALE:GREGORIAN
METHOD:PUBLISH
X-ORIGINAL-URL:https://lasfloresmcym.com.ar
X-WR-CALDESC:Eventos para MCyM Las Flores
REFRESH-INTERVAL;VALUE=DURATION:PT1H
X-Robots-Tag:noindex
X-PUBLISHED-TTL:PT1H
BEGIN:VTIMEZONE
TZID:America/Argentina/Buenos_Aires
BEGIN:STANDARD
TZOFFSETFROM:-0300
TZOFFSETTO:-0300
TZNAME:-03
DTSTART:20240101T000000
END:STANDARD
END:VTIMEZONE
BEGIN:VEVENT
DTSTART;VALUE=DATE:20251031
DTEND;VALUE=DATE:20251101
DTSTAMP:20260425T220822
CREATED:20251104T152259Z
LAST-MODIFIED:20251104T152445Z
UID:2871-1761868800-1761955199@lasfloresmcym.com.ar
SUMMARY:CONVENCIÓN NECOCHEA 2025
DESCRIPTION:Postales de lo que fue la Convención en Necochea!\nEl día viernes por la mañana\, nuestro Pastor Carlos Cabrera estuvo compartiendo un poderoso mensaje sobre el «Fastidio»\, dónde bendijo poderosamente nuestras vidas.\nAdemás un grupo de discípulos de nuestra casa\, viajaron para poder participar de esta gloriosa convención!
URL:https://lasfloresmcym.com.ar/event/convencion-necochea-2025/
ATTACH;FMTTYPE=image/jpeg:https://lasfloresmcym.com.ar/wp-content/uploads/2025/11/574046316_839503195383552_3051828179742579695_n.jpg
END:VEVENT
END:VCALENDAR