BEGIN:VCALENDAR
VERSION:2.0
PRODID:-//MCyM Las Flores - ECPv6.15.20//NONSGML v1.0//EN
CALSCALE:GREGORIAN
METHOD:PUBLISH
X-ORIGINAL-URL:https://lasfloresmcym.com.ar
X-WR-CALDESC:Eventos para MCyM Las Flores
REFRESH-INTERVAL;VALUE=DURATION:PT1H
X-Robots-Tag:noindex
X-PUBLISHED-TTL:PT1H
BEGIN:VTIMEZONE
TZID:America/Argentina/Buenos_Aires
BEGIN:STANDARD
TZOFFSETFROM:-0300
TZOFFSETTO:-0300
TZNAME:-03
DTSTART:20240101T000000
END:STANDARD
END:VTIMEZONE
BEGIN:VEVENT
DTSTART;VALUE=DATE:20251126
DTEND;VALUE=DATE:20251127
DTSTAMP:20260425T205337
CREATED:20251127T133331Z
LAST-MODIFIED:20251127T133430Z
UID:2932-1764115200-1764201599@lasfloresmcym.com.ar
SUMMARY:Reunión de obreros - Noviembre 2025
DESCRIPTION:Gloriosa reunión mensual de obreros celebrada en nuestra casa madre\, en donde un gran grupo de discípulos\, obreros y pastores participaron de un tiempo de comunión\, oración\, búsqueda intensa\, capacitación y enseñanza\, para concluir la jornada almorzando todos juntos!Gloriosa reunión mensual de obreros celebrada en nuestra casa madre\, en donde un gran grupo de discípulos\, obreros y pastores participaron de un tiempo de comunión\, oración\, búsqueda intensa\, capacitación y enseñanza\, para concluir la jornada almorzando todos juntos!
URL:https://lasfloresmcym.com.ar/event/reunion-de-obreros-noviembre-2025/
ATTACH;FMTTYPE=image/jpeg:https://lasfloresmcym.com.ar/wp-content/uploads/2025/11/MCM0044-scaled.jpg
END:VEVENT
END:VCALENDAR