BEGIN:VCALENDAR
VERSION:2.0
PRODID:-//MCyM Las Flores - ECPv6.15.20//NONSGML v1.0//EN
CALSCALE:GREGORIAN
METHOD:PUBLISH
X-ORIGINAL-URL:https://lasfloresmcym.com.ar
X-WR-CALDESC:Eventos para MCyM Las Flores
REFRESH-INTERVAL;VALUE=DURATION:PT1H
X-Robots-Tag:noindex
X-PUBLISHED-TTL:PT1H
BEGIN:VTIMEZONE
TZID:America/Argentina/Buenos_Aires
BEGIN:STANDARD
TZOFFSETFROM:-0300
TZOFFSETTO:-0300
TZNAME:-03
DTSTART:20250101T000000
END:STANDARD
END:VTIMEZONE
BEGIN:VEVENT
DTSTART;TZID=America/Argentina/Buenos_Aires:20260118T080000
DTEND;TZID=America/Argentina/Buenos_Aires:20260118T170000
DTSTAMP:20260425T205400
CREATED:20260120T140706Z
LAST-MODIFIED:20260120T140809Z
UID:2973-1768723200-1768755600@lasfloresmcym.com.ar
SUMMARY:REUNIÓN DE BAUTISMOS Y SANTA CENA\, CON TESTIMONIOS DE MILAGROS!
DESCRIPTION:REUNIÓN DE BAUTISMO Y SANTA CENA\, CON TESTIMONIOS DE MILAGROS Y AGRADECIMIENTOS! \nEl pasado domingo\, pudimos celebrar la primera reunión de Sana Cena en este 2026\, además nueve personas tomaron la decisión de bautizarse y nacer a la nueva vida que Cristo tiene para ellos! \nCelebramos esta tremenda victoria espiritual y creemos por un tiempo de aumento y expansión de la obra!
URL:https://lasfloresmcym.com.ar/event/reunion-de-bautismos-y-santa-cena-con-testimonios-de-milagros/
ATTACH;FMTTYPE=image/webp:https://lasfloresmcym.com.ar/wp-content/uploads/2026/01/619800171_18306966034252084_6158839053846860806_n.webp
END:VEVENT
BEGIN:VEVENT
DTSTART;TZID=America/Argentina/Buenos_Aires:20260125T080000
DTEND;TZID=America/Argentina/Buenos_Aires:20260125T170000
DTSTAMP:20260425T205400
CREATED:20260126T141341Z
LAST-MODIFIED:20260126T141352Z
UID:3028-1769328000-1769360400@lasfloresmcym.com.ar
SUMMARY:GLORIOSO ANIVERSARIO EN MCYM CARLOS TEJEDOR!
DESCRIPTION:El pasado sábado\, disfrutamos una gloriosa jornada de aniversario en Carlos Tejedor\, obra comenzada por nuestros pastores Mercedes y Carlos Cabrera\, su hija Ana Cabrera\, junto con el grupo de discipulado y hermanos de la congregación de Las Flores!\nLuego\, continuó siendo pastoreada por Yésica y Félix Guevara\, hasta que Dios les llamó a Limpio\, Paraguay!\nActualmente\, Ignacio y Daniela\, continúan con esta maravillosa obra que cumple ya 14 años!
URL:https://lasfloresmcym.com.ar/event/glorioso-aniversario-en-mcym-carlos-tejedor/
ATTACH;FMTTYPE=image/jpeg:https://lasfloresmcym.com.ar/wp-content/uploads/2026/01/WhatsApp-Image-2026-01-26-at-10.51.24.jpeg
END:VEVENT
BEGIN:VEVENT
DTSTART;TZID=America/Argentina/Buenos_Aires:20260318T080000
DTEND;TZID=America/Argentina/Buenos_Aires:20260318T170000
DTSTAMP:20260425T205400
CREATED:20260323T033532Z
LAST-MODIFIED:20260323T041112Z
UID:3048-1773820800-1773853200@lasfloresmcym.com.ar
SUMMARY:REUNIÓN DE OBREROS - MARZO 2026
DESCRIPTION:Este pasado miércoles\, pudimos compartir una reunión especial de obreros\, discípulos y pastores zonales\, en donde recibimos la ministración de la Palabra de Dios por parte de nuestros pastores\, además\, fue un tiempo de intensa búsqueda y oración.\nTambién culminamos con un gran almuerzo\, y tiempo de disfrute y compañerismo!
URL:https://lasfloresmcym.com.ar/event/reunion-de-obreros-marzo-2026/
ATTACH;FMTTYPE=image/jpeg:https://lasfloresmcym.com.ar/wp-content/uploads/2026/03/WhatsApp-Image-2026-03-23-at-00.29.12.jpeg
END:VEVENT
END:VCALENDAR