BEGIN:VCALENDAR
VERSION:2.0
PRODID:-//MCyM Las Flores - ECPv6.15.20//NONSGML v1.0//EN
CALSCALE:GREGORIAN
METHOD:PUBLISH
X-WR-CALNAME:MCyM Las Flores
X-ORIGINAL-URL:https://lasfloresmcym.com.ar
X-WR-CALDESC:Eventos para MCyM Las Flores
REFRESH-INTERVAL;VALUE=DURATION:PT1H
X-Robots-Tag:noindex
X-PUBLISHED-TTL:PT1H
BEGIN:VTIMEZONE
TZID:America/Argentina/Buenos_Aires
BEGIN:STANDARD
TZOFFSETFROM:-0300
TZOFFSETTO:-0300
TZNAME:-03
DTSTART:20240101T000000
END:STANDARD
END:VTIMEZONE
BEGIN:VEVENT
DTSTART;VALUE=DATE:20250714
DTEND;VALUE=DATE:20250715
DTSTAMP:20260426T004419
CREATED:20250715T142313Z
LAST-MODIFIED:20250715T143018Z
UID:2469-1752451200-1752537599@lasfloresmcym.com.ar
SUMMARY:REUNIÓN DE DAMAS
DESCRIPTION:«Compartimos algunas imágenes de lo que fue nuestra reunión de damas en la Iglesia de Las Flores\, la cual fue dirigida por la pastora Mercedes Ferreyra de Cabrera\, con la participación de las pastoras Alejandra Cabrera\, Débora Cabrera y Ana Cabrera. \nLa transmisión del evento puede visualizarse en el siguiente enlace: \nhttps://www.youtube.com/live/xq4e6zrmW7k?si=DJzbuwFg1vbcpLgY \n\n         \n\n«
URL:https://lasfloresmcym.com.ar/event/reunion-de-damas/
ATTACH;FMTTYPE=image/webp:https://lasfloresmcym.com.ar/wp-content/uploads/2025/07/515282059_18283419976252084_2264234520129995990_n.webp
END:VEVENT
BEGIN:VEVENT
DTSTART;TZID=America/Argentina/Buenos_Aires:20250714T183000
DTEND;TZID=America/Argentina/Buenos_Aires:20250714T190000
DTSTAMP:20260426T004419
CREATED:20250715T140057Z
LAST-MODIFIED:20250715T142408Z
UID:2463-1752517800-1752519600@lasfloresmcym.com.ar
SUMMARY:Visitando MCyM Laboulaye\, en su aniversario N° 53
DESCRIPTION:Nuestros pastores Mercedes y Carlos Cabrera\, junto con la pastora Alejandra Cabrera y sus dos hijos\, Celsio y Josué\, estuvieron compartiendo el hermoso aniversario N°53 del la iglesia MCyM Laboulaye\, en la provincia de Córdoba.\nTambién se sumaron a la actividad los pastores Josué Álvarez de General Villegas (Buenos Aires) y Gastón Trejo de Bell Ville (Córdoba)! \nLe damos las gracias a Dios por este viaje que él permitió hacer a fin de acompañar a los queridos pastores y congregación de Laboulaye en este día tan especial!
URL:https://lasfloresmcym.com.ar/event/visitando-mcym-laboulaye-en-su-aniversario-n-53/
ATTACH;FMTTYPE=image/jpeg:https://lasfloresmcym.com.ar/wp-content/uploads/2025/07/517361708_24150622671243443_4929100305241907364_n.jpg
END:VEVENT
END:VCALENDAR