BEGIN:VCALENDAR
VERSION:2.0
PRODID:-//MCyM Las Flores - ECPv6.15.20//NONSGML v1.0//EN
CALSCALE:GREGORIAN
METHOD:PUBLISH
X-WR-CALNAME:MCyM Las Flores
X-ORIGINAL-URL:https://lasfloresmcym.com.ar
X-WR-CALDESC:Eventos para MCyM Las Flores
REFRESH-INTERVAL;VALUE=DURATION:PT1H
X-Robots-Tag:noindex
X-PUBLISHED-TTL:PT1H
BEGIN:VTIMEZONE
TZID:America/Argentina/Buenos_Aires
BEGIN:STANDARD
TZOFFSETFROM:-0300
TZOFFSETTO:-0300
TZNAME:-03
DTSTART:20240101T000000
END:STANDARD
END:VTIMEZONE
BEGIN:VEVENT
DTSTART;VALUE=DATE:20250916
DTEND;VALUE=DATE:20250917
DTSTAMP:20260425T220510
CREATED:20250917T135130Z
LAST-MODIFIED:20250917T135235Z
UID:2687-1757980800-1758067199@lasfloresmcym.com.ar
SUMMARY:2do Congreso de Damas "RENOVADAS" MCyM General Belgrano
DESCRIPTION:Hermoso Congreso de Damas organizado por la iglesia del MCyM General Belgrano\, en donde nuestro equipo pastoral estuvo ministrando y participando!\nHermoso tiempo compartido\, con el lema de RENOVADAS\, en donde todos los participantes fueron llenos del glorioso y bendito Espíritu Santo!
URL:https://lasfloresmcym.com.ar/event/2687/
ATTACH;FMTTYPE=image/jpeg:https://lasfloresmcym.com.ar/wp-content/uploads/2025/09/548014771_122173901660451467_426778361439812016_n.jpg
END:VEVENT
END:VCALENDAR