BEGIN:VCALENDAR
VERSION:2.0
PRODID:-//MCyM Las Flores - ECPv6.15.20//NONSGML v1.0//EN
CALSCALE:GREGORIAN
METHOD:PUBLISH
X-ORIGINAL-URL:https://lasfloresmcym.com.ar
X-WR-CALDESC:Eventos para MCyM Las Flores
REFRESH-INTERVAL;VALUE=DURATION:PT1H
X-Robots-Tag:noindex
X-PUBLISHED-TTL:PT1H
BEGIN:VTIMEZONE
TZID:America/Argentina/Buenos_Aires
BEGIN:STANDARD
TZOFFSETFROM:-0300
TZOFFSETTO:-0300
TZNAME:-03
DTSTART:20240101T000000
END:STANDARD
END:VTIMEZONE
BEGIN:VEVENT
DTSTART;TZID=America/Argentina/Buenos_Aires:20251222T100000
DTEND;TZID=America/Argentina/Buenos_Aires:20251222T170000
DTSTAMP:20260425T175644
CREATED:20251223T151150Z
LAST-MODIFIED:20251223T151603Z
UID:2951-1766397600-1766422800@lasfloresmcym.com.ar
SUMMARY:ÚLTIMA REUNION DE OBREROS DEL AÑO 2025
DESCRIPTION:El pasado lunes 22 de diciembre pudimos compartir la última reunión de obreros del 2025\, despidiendo el año junto con un gran grupo de pastores\, obreros y discípulos! \nLe damos las gracias a Dios por un año lleno de bendiciones\, de avance\, expansión y realización!
URL:https://lasfloresmcym.com.ar/event/ultima-reunion-de-obreros-del-ano-2025/
ATTACH;FMTTYPE=image/jpeg:https://lasfloresmcym.com.ar/wp-content/uploads/2025/12/WhatsApp-Image-2025-12-23-at-09.27.53.jpeg
END:VEVENT
BEGIN:VEVENT
DTSTART;VALUE=DATE:20251228
DTEND;VALUE=DATE:20251229
DTSTAMP:20260425T175644
CREATED:20251229T151512Z
LAST-MODIFIED:20251229T151610Z
UID:2969-1766880000-1766966399@lasfloresmcym.com.ar
SUMMARY:ÚLTIMA SANTA CENA Y REUNIÓN DEL AÑO – 2025
DESCRIPTION:El Señor nos permitió\, celebrar y compartir nuestra última reunión del año 2025\, cumpliendo con la Cena del Señor y disfrutando de su presencia. Recordando las tareas que se llevaron a cabo a lo largo del 2025 año de la Realización.\nUn grupo de niños de los comedores Belén y los adolescentes prepararon canciones para compartir con la hermandad\, definitivamente un año cargado de Realización.
URL:https://lasfloresmcym.com.ar/event/ultima-santa-cena-y-reunion-del-ano-2025/
ATTACH;FMTTYPE=image/webp:https://lasfloresmcym.com.ar/wp-content/uploads/2025/12/607653653_2646036389085933_4435589004286451704_n.webp
END:VEVENT
END:VCALENDAR